BEGIN:VCALENDAR
VERSION:2.0
PRODID:-//Jyväskylän Sirius ry - ECPv6.15.17//NONSGML v1.0//EN
CALSCALE:GREGORIAN
METHOD:PUBLISH
X-WR-CALNAME:Jyväskylän Sirius ry
X-ORIGINAL-URL:https://www.ursa.fi/blogi/sirius
X-WR-CALDESC:Tapahtumat Jyväskylän Sirius ry
REFRESH-INTERVAL;VALUE=DURATION:PT1H
X-Robots-Tag:noindex
X-PUBLISHED-TTL:PT1H
BEGIN:VTIMEZONE
TZID:Europe/Helsinki
BEGIN:DAYLIGHT
TZOFFSETFROM:+0200
TZOFFSETTO:+0300
TZNAME:EEST
DTSTART:20240331T010000
END:DAYLIGHT
BEGIN:STANDARD
TZOFFSETFROM:+0300
TZOFFSETTO:+0200
TZNAME:EET
DTSTART:20241027T010000
END:STANDARD
BEGIN:DAYLIGHT
TZOFFSETFROM:+0200
TZOFFSETTO:+0300
TZNAME:EEST
DTSTART:20250330T010000
END:DAYLIGHT
BEGIN:STANDARD
TZOFFSETFROM:+0300
TZOFFSETTO:+0200
TZNAME:EET
DTSTART:20251026T010000
END:STANDARD
BEGIN:DAYLIGHT
TZOFFSETFROM:+0200
TZOFFSETTO:+0300
TZNAME:EEST
DTSTART:20260329T010000
END:DAYLIGHT
BEGIN:STANDARD
TZOFFSETFROM:+0300
TZOFFSETTO:+0200
TZNAME:EET
DTSTART:20261025T010000
END:STANDARD
END:VTIMEZONE
BEGIN:VEVENT
DTSTART;TZID=Europe/Helsinki:20251004T200000
DTEND;TZID=Europe/Helsinki:20251004T220000
DTSTAMP:20260420T023645
CREATED:20250811T173645Z
LAST-MODIFIED:20250811T173645Z
UID:2233-1759608000-1759615200@www.ursa.fi
SUMMARY:Kansainvälinen avaruusviikko\, Nyrölä
DESCRIPTION:Avoimet ovet Nyrölän observatoriolla\nAvoimet ovet klo 20:00 – 22:00. Mahdolisuus makkaranpaistoon\, omat makkarat mukaan. Ei säävarausta. Tervetuloa! \n\nMikä avaruusviikko on?\nAvaruusviikko on kansainvälinen tapahtuma joka juhlistaa tieteen ja teknologian tuomaa hyötyä ihmiskunnalle. Yhdistyneiden kansakuntien (YK) yleiskokous julisti vuonna 1999\, että kansainvälistä avaruusviikkoa vietetään joka vuosi 4.-10. lokakuuta. Nämä päivät valittiin\, koska \n\nLokakuun 4. päivä 1957 laukaistiin ensimmäinen satelliitti\, Sputnik 1 ja\nLokakuun 10. päivä 1967 allekirjoitettiin kansainvälinen YK:n sopimus avaruuden rauhanomaisesta käytöstä.
URL:https://www.ursa.fi/blogi/sirius/event/kansainvalinen-avaruusviikko-nyrola/
LOCATION:Nyrölän observatorio\, Vertaalantie 447\, Jyväskylä\, 40270
ATTACH;FMTTYPE=image/jpeg:https://www.ursa.fi/blogi/sirius/wp-content/uploads/sites/20/2017/12/20151115_182034_2000.jpg
END:VEVENT
BEGIN:VEVENT
DTSTART;TZID=Europe/Helsinki:20251005T200000
DTEND;TZID=Europe/Helsinki:20251005T220000
DTSTAMP:20260420T023645
CREATED:20250811T173842Z
LAST-MODIFIED:20250811T173842Z
UID:2237-1759694400-1759701600@www.ursa.fi
SUMMARY:Avaruusviikko\, Hankasalmen observatorio
DESCRIPTION:Avoimet ovet Murtoisten observatoriolla Hankasalmella\nAvoimet ovet klo 20:00 – 22:00. Tervetuloa! \n\nMikä avaruusviikko on?\nAvaruusviikko on kansainvälinen tapahtuma joka juhlistaa tieteen ja teknologian tuomaa hyötyä ihmiskunnalle. Yhdistyneiden kansakuntien (YK) yleiskokous julisti vuonna 1999\, että kansainvälistä avaruusviikkoa vietetään joka vuosi 4.-10. lokakuuta. Nämä päivät valittiin\, koska \n\nLokakuun 4. päivä 1957 laukaistiin ensimmäinen satelliitti\, Sputnik 1 ja\nLokakuun 10. päivä 1967 allekirjoitettiin kansainvälinen YK:n sopimus avaruuden rauhanomaisesta käytöstä.
URL:https://www.ursa.fi/blogi/sirius/event/avaruusviikko-hankasalmen-observatorio/
LOCATION:Murtoisten observatorio\, Murtoistentie 116\, Hankasalmi\, Suomi
CATEGORIES:Tapahtumat
ATTACH;FMTTYPE=image/jpeg:https://www.ursa.fi/blogi/sirius/wp-content/uploads/sites/20/2024/05/IMG_0971-scaled.jpg
END:VEVENT
BEGIN:VEVENT
DTSTART;TZID=Europe/Helsinki:20251006T200000
DTEND;TZID=Europe/Helsinki:20251006T220000
DTSTAMP:20260420T023645
CREATED:20250811T174221Z
LAST-MODIFIED:20251003T095044Z
UID:2241-1759780800-1759788000@www.ursa.fi
SUMMARY:Avaruusviikko\, Rihlaperän tähtitorni
DESCRIPTION:Avoimet ovet Rihlaperän tähtitornilla\nRihlaperän tähtitorni avoinna maanantaina 6.10 klo 20:00 – 22:00. Ei säävarausta. Tervetuloa! \n\nMikä avaruusviikko on?\nAvaruusviikko on kansainvälinen tapahtuma joka juhlistaa tieteen ja teknologian tuomaa hyötyä ihmiskunnalle. Yhdistyneiden kansakuntien (YK) yleiskokous julisti vuonna 1999\, että kansainvälistä avaruusviikkoa vietetään joka vuosi 4.-10. lokakuuta. Nämä päivät valittiin\, koska \n\nLokakuun 4. päivä 1957 laukaistiin ensimmäinen satelliitti\, Sputnik 1 ja\nLokakuun 10. päivä 1967 allekirjoitettiin kansainvälinen YK:n sopimus avaruuden rauhanomaisesta käytöstä.
URL:https://www.ursa.fi/blogi/sirius/event/avaruusviikko-rihlaperan-tahtitorni/
LOCATION:Rihlaperän tähtitorni
CATEGORIES:Tapahtumat
ATTACH;FMTTYPE=image/jpeg:https://www.ursa.fi/blogi/sirius/wp-content/uploads/sites/20/2021/11/Tähtitorni_16x-2.jpg
END:VEVENT
BEGIN:VEVENT
DTSTART;TZID=Europe/Helsinki:20251009T183000
DTEND;TZID=Europe/Helsinki:20251009T210000
DTSTAMP:20260420T023645
CREATED:20250811T174505Z
LAST-MODIFIED:20251009T132535Z
UID:2245-1760034600-1760043600@www.ursa.fi
SUMMARY:Lokakuun tähtiharrastusiltahttps://www.ursa.fi/blogi/sirius/wp-admin/admin.php?page=custom-css-js-config
DESCRIPTION:Professori Noora Partamies Huippuvuorten tutkimusasemalta kertoo etänä revontulitutkimuksen uusimmista käänteistä. Tilaisuutta on mahdollisuus seurata Schildtin lukion auditoriossa tai Goole Meetin välityksellä. Tilaisuuden alussa katsaus tähtitaivaan ja Siriuksen ajankohtaisiin tapahtumiin. Siriuksen tähtiharrastusillat ovat kaikille avoimia maksuttomia tilaisuuksia. Tervetuloa!
URL:https://www.ursa.fi/blogi/sirius/event/lokakuun-tahtiharrastusilta-7/
LOCATION:Schildtin lukion auditorio\, Viitaniementie 1B\, Jyväskylä\, 40720\, Finland
CATEGORIES:Tähtiharrastusilta
ATTACH;FMTTYPE=image/jpeg:https://www.ursa.fi/blogi/sirius/wp-content/uploads/sites/20/2025/08/518295450_10233838604978864_8816710083311861975_n-1.jpg
END:VEVENT
END:VCALENDAR