BEGIN:VCALENDAR
VERSION:2.0
PRODID:-//Jyväskylän Sirius ry - ECPv6.15.17//NONSGML v1.0//EN
CALSCALE:GREGORIAN
METHOD:PUBLISH
X-WR-CALNAME:Jyväskylän Sirius ry
X-ORIGINAL-URL:https://www.ursa.fi/blogi/sirius
X-WR-CALDESC:Tapahtumat Jyväskylän Sirius ry
REFRESH-INTERVAL;VALUE=DURATION:PT1H
X-Robots-Tag:noindex
X-PUBLISHED-TTL:PT1H
BEGIN:VTIMEZONE
TZID:Europe/Helsinki
BEGIN:DAYLIGHT
TZOFFSETFROM:+0200
TZOFFSETTO:+0300
TZNAME:EEST
DTSTART:20240331T010000
END:DAYLIGHT
BEGIN:STANDARD
TZOFFSETFROM:+0300
TZOFFSETTO:+0200
TZNAME:EET
DTSTART:20241027T010000
END:STANDARD
BEGIN:DAYLIGHT
TZOFFSETFROM:+0200
TZOFFSETTO:+0300
TZNAME:EEST
DTSTART:20250330T010000
END:DAYLIGHT
BEGIN:STANDARD
TZOFFSETFROM:+0300
TZOFFSETTO:+0200
TZNAME:EET
DTSTART:20251026T010000
END:STANDARD
BEGIN:DAYLIGHT
TZOFFSETFROM:+0200
TZOFFSETTO:+0300
TZNAME:EEST
DTSTART:20260329T010000
END:DAYLIGHT
BEGIN:STANDARD
TZOFFSETFROM:+0300
TZOFFSETTO:+0200
TZNAME:EET
DTSTART:20261025T010000
END:STANDARD
END:VTIMEZONE
BEGIN:VEVENT
DTSTART;TZID=Europe/Helsinki:20250410T183000
DTEND;TZID=Europe/Helsinki:20250410T210000
DTSTAMP:20260420T104927
CREATED:20241222T092734Z
LAST-MODIFIED:20250407T160312Z
UID:2147-1744309800-1744318800@www.ursa.fi
SUMMARY:Huhtikuun tähtiharrastusilta
DESCRIPTION:Aarteita avaruudesta – Jarkko Kettunen esitelmöi eri meteoriittityypeistä ja keräämästään Suomen kattavimmasta meteoriittikokoelmasta. Esitelmä pidetään Google meetin välityksellä ja sitä on mahdollisuus seurata netin välitykellä tai Schildtin lukion auditoriossa. Siriuksen tähtiharrastusillat ovat kaikille avoimia maksuttomia tilaisuuksia. Tervetuloa.
URL:https://www.ursa.fi/blogi/sirius/event/huhtikuun-tahtiharrastusilta-5/
LOCATION:Schildtin lukion auditorio\, Viitaniementie 1B\, Jyväskylä\, 40720\, Finland
CATEGORIES:Tähtiharrastusilta
ATTACH;FMTTYPE=image/jpeg:https://www.ursa.fi/blogi/sirius/wp-content/uploads/sites/20/2025/04/IMG_4007.jpg
END:VEVENT
END:VCALENDAR