BEGIN:VCALENDAR
VERSION:2.0
PRODID:-//Jyväskylän Sirius ry - ECPv6.15.17//NONSGML v1.0//EN
CALSCALE:GREGORIAN
METHOD:PUBLISH
X-ORIGINAL-URL:https://www.ursa.fi/blogi/sirius
X-WR-CALDESC:Tapahtumat Jyväskylän Sirius ry
REFRESH-INTERVAL;VALUE=DURATION:PT1H
X-Robots-Tag:noindex
X-PUBLISHED-TTL:PT1H
BEGIN:VTIMEZONE
TZID:Europe/Helsinki
BEGIN:DAYLIGHT
TZOFFSETFROM:+0200
TZOFFSETTO:+0300
TZNAME:EEST
DTSTART:20240331T010000
END:DAYLIGHT
BEGIN:STANDARD
TZOFFSETFROM:+0300
TZOFFSETTO:+0200
TZNAME:EET
DTSTART:20241027T010000
END:STANDARD
BEGIN:DAYLIGHT
TZOFFSETFROM:+0200
TZOFFSETTO:+0300
TZNAME:EEST
DTSTART:20250330T010000
END:DAYLIGHT
BEGIN:STANDARD
TZOFFSETFROM:+0300
TZOFFSETTO:+0200
TZNAME:EET
DTSTART:20251026T010000
END:STANDARD
BEGIN:DAYLIGHT
TZOFFSETFROM:+0200
TZOFFSETTO:+0300
TZNAME:EEST
DTSTART:20260329T010000
END:DAYLIGHT
BEGIN:STANDARD
TZOFFSETFROM:+0300
TZOFFSETTO:+0200
TZNAME:EET
DTSTART:20261025T010000
END:STANDARD
END:VTIMEZONE
BEGIN:VEVENT
DTSTART;TZID=Europe/Helsinki:20250202T190000
DTEND;TZID=Europe/Helsinki:20250202T200000
DTSTAMP:20260422T125620
CREATED:20241222T091922Z
LAST-MODIFIED:20241222T091922Z
UID:2107-1738522800-1738526400@www.ursa.fi
SUMMARY:Rihlaperän tähtitorni avoinna klo 19-20
DESCRIPTION:Säävaraus\, pilvisellä säällä ei tähtinäytäntöä
URL:https://www.ursa.fi/blogi/sirius/event/rihlaperan-tahtitorni-avoinna-klo-19-20-31/
CATEGORIES:Tähtinäytäntö
END:VEVENT
BEGIN:VEVENT
DTSTART;TZID=Europe/Helsinki:20250209T190000
DTEND;TZID=Europe/Helsinki:20250209T200000
DTSTAMP:20260422T125620
CREATED:20241222T091959Z
LAST-MODIFIED:20241222T091959Z
UID:2111-1739127600-1739131200@www.ursa.fi
SUMMARY:Rihlaperän tähtitorni avoinna klo 19-20
DESCRIPTION:Säävaraus\, pilvisellä säällä ei tähtinäytäntöä
URL:https://www.ursa.fi/blogi/sirius/event/rihlaperan-tahtitorni-avoinna-klo-19-20-32/
CATEGORIES:Tähtinäytäntö
END:VEVENT
BEGIN:VEVENT
DTSTART;TZID=Europe/Helsinki:20250213T183000
DTEND;TZID=Europe/Helsinki:20250213T210000
DTSTAMP:20260422T125620
CREATED:20250130T175344Z
LAST-MODIFIED:20250130T175344Z
UID:2158-1739471400-1739480400@www.ursa.fi
SUMMARY:Helmikuun tähtiharrastusilta
DESCRIPTION:Helmikuun tähtiharrastusillassa Schildtin lukion auditoriossa Emma Bruus kertoo\, miten onnistua bongaamaan ja kuvaamaan revontulia etelässä. Ennen luennon alkua katsaus Siriuksen ajankohtaisiin asioihin ja ajankohtaisiin tähtitaivaan tapahtumiin. Siriuksen tähtiharrastusillat ovat kaikille avoimia maksuttoma tilaisuuksia. Tervetuloa!
URL:https://www.ursa.fi/blogi/sirius/event/helmikuun-tahtiharrastusilta-4/
LOCATION:Schildtin lukion auditorio\, Viitaniementie 1B\, Jyväskylä\, 40720\, Finland
CATEGORIES:Tähtiharrastusilta
ATTACH;FMTTYPE=image/png:https://www.ursa.fi/blogi/sirius/wp-content/uploads/sites/20/2024/05/kuva6.png
END:VEVENT
BEGIN:VEVENT
DTSTART;TZID=Europe/Helsinki:20250216T190000
DTEND;TZID=Europe/Helsinki:20250216T200000
DTSTAMP:20260422T125620
CREATED:20241222T092029Z
LAST-MODIFIED:20241222T092029Z
UID:2115-1739732400-1739736000@www.ursa.fi
SUMMARY:Rihlaperän tähtitorni avoinna klo 19-20
DESCRIPTION:Säävaraus\, pilvisellä säällä ei tähtinäytäntöä
URL:https://www.ursa.fi/blogi/sirius/event/rihlaperan-tahtitorni-avoinna-klo-19-20-33/
CATEGORIES:Tähtinäytäntö
END:VEVENT
BEGIN:VEVENT
DTSTART;TZID=Europe/Helsinki:20250223T190000
DTEND;TZID=Europe/Helsinki:20250223T200000
DTSTAMP:20260422T125620
CREATED:20241222T092207Z
LAST-MODIFIED:20241222T092207Z
UID:2123-1740337200-1740340800@www.ursa.fi
SUMMARY:Rihlaperän tähtitorni avoinna klo 19-20
DESCRIPTION:Säävaraus\, pilvisellä säällä ei tähtinäytäntöä
URL:https://www.ursa.fi/blogi/sirius/event/rihlaperan-tahtitorni-avoinna-klo-19-20-35/
CATEGORIES:Tähtinäytäntö
END:VEVENT
END:VCALENDAR