BEGIN:VCALENDAR
VERSION:2.0
PRODID:-//Jyväskylän Sirius ry - ECPv6.15.17//NONSGML v1.0//EN
CALSCALE:GREGORIAN
METHOD:PUBLISH
X-ORIGINAL-URL:https://www.ursa.fi/blogi/sirius
X-WR-CALDESC:Tapahtumat Jyväskylän Sirius ry
REFRESH-INTERVAL;VALUE=DURATION:PT1H
X-Robots-Tag:noindex
X-PUBLISHED-TTL:PT1H
BEGIN:VTIMEZONE
TZID:Europe/Helsinki
BEGIN:DAYLIGHT
TZOFFSETFROM:+0200
TZOFFSETTO:+0300
TZNAME:EEST
DTSTART:20230326T010000
END:DAYLIGHT
BEGIN:STANDARD
TZOFFSETFROM:+0300
TZOFFSETTO:+0200
TZNAME:EET
DTSTART:20231029T010000
END:STANDARD
BEGIN:DAYLIGHT
TZOFFSETFROM:+0200
TZOFFSETTO:+0300
TZNAME:EEST
DTSTART:20240331T010000
END:DAYLIGHT
BEGIN:STANDARD
TZOFFSETFROM:+0300
TZOFFSETTO:+0200
TZNAME:EET
DTSTART:20241027T010000
END:STANDARD
BEGIN:DAYLIGHT
TZOFFSETFROM:+0200
TZOFFSETTO:+0300
TZNAME:EEST
DTSTART:20250330T010000
END:DAYLIGHT
BEGIN:STANDARD
TZOFFSETFROM:+0300
TZOFFSETTO:+0200
TZNAME:EET
DTSTART:20251026T010000
END:STANDARD
END:VTIMEZONE
BEGIN:VEVENT
DTSTART;TZID=Europe/Helsinki:20241004T200000
DTEND;TZID=Europe/Helsinki:20241004T220000
DTSTAMP:20260421T155727
CREATED:20240630T080551Z
LAST-MODIFIED:20240928T053847Z
UID:1939-1728072000-1728079200@www.ursa.fi
SUMMARY:Kansainvälinen avaruusviikko\, Nyrölä
DESCRIPTION:Avoimet ovet Nyrölän observatoriolla\nAvoimet ovet klo 20:00 – 22:00. Mahdolisuus makkaranpaistoon\, omat makkarat mukaan. Tervetuloa! \n\nMikä avaruusviikko on?\nAvaruusviikko on kansainvälinen tapahtuma joka juhlistaa tieteen ja teknologian tuomaa hyötyä ihmiskunnalle. Yhdistyneiden kansakuntien (YK) yleiskokous julisti vuonna 1999\, että kansainvälistä avaruusviikkoa vietetään joka vuosi 4.-10. lokakuuta. Nämä päivät valittiin\, koska \n\nLokakuun 4. päivä 1957 laukaistiin ensimmäinen satelliitti\, Sputnik 1 ja\nLokakuun 10. päivä 1967 allekirjoitettiin kansainvälinen YK:n sopimus avaruuden rauhanomaisesta käytöstä.
URL:https://www.ursa.fi/blogi/sirius/event/kansainvalinen-avaruusviikko/
LOCATION:Nyrölän observatorio\, Vertaalantie 447\, Jyväskylä\, 40270
CATEGORIES:Tapahtumat
ATTACH;FMTTYPE=image/png:https://www.ursa.fi/blogi/sirius/wp-content/uploads/sites/20/2021/10/image-1.png
END:VEVENT
BEGIN:VEVENT
DTSTART;TZID=Europe/Helsinki:20241005T200000
DTEND;TZID=Europe/Helsinki:20241005T220000
DTSTAMP:20260421T155727
CREATED:20240928T053545Z
LAST-MODIFIED:20240928T053545Z
UID:2009-1728158400-1728165600@www.ursa.fi
SUMMARY:Kansainvälinen avaruusviikko\, Hankasalmi
DESCRIPTION:Avoimet ovet Murtoisten observatoriolla Hankasalmella\nAvoimet ovet klo 20:00 – 22:00. Tervetuloa! \n\nMikä avaruusviikko on?\nAvaruusviikko on kansainvälinen tapahtuma joka juhlistaa tieteen ja teknologian tuomaa hyötyä ihmiskunnalle. Yhdistyneiden kansakuntien (YK) yleiskokous julisti vuonna 1999\, että kansainvälistä avaruusviikkoa vietetään joka vuosi 4.-10. lokakuuta. Nämä päivät valittiin\, koska \n\nLokakuun 4. päivä 1957 laukaistiin ensimmäinen satelliitti\, Sputnik 1 ja\nLokakuun 10. päivä 1967 allekirjoitettiin kansainvälinen YK:n sopimus avaruuden rauhanomaisesta käytöstä.
URL:https://www.ursa.fi/blogi/sirius/event/kansainvalinen-avaruusviikko-hankasalmi/
LOCATION:Murtoisten observatorio\, Murtoistentie 116\, Hankasalmi\, Suomi
CATEGORIES:Tapahtumat
ATTACH;FMTTYPE=image/jpeg:https://www.ursa.fi/blogi/sirius/wp-content/uploads/sites/20/2024/05/IMG_0971-scaled.jpg
END:VEVENT
BEGIN:VEVENT
DTSTART;TZID=Europe/Helsinki:20241006T200000
DTEND;TZID=Europe/Helsinki:20241006T220000
DTSTAMP:20260421T155727
CREATED:20240928T053737Z
LAST-MODIFIED:20240928T053737Z
UID:2013-1728244800-1728252000@www.ursa.fi
SUMMARY:Kansainvälinen avaruusviikko\, Rihlaperä
DESCRIPTION:Avoimet ovet Rihlaperän tähtitornilla\nAvoimet ovet klo 20:00 – 22:00. Tervetuloa! \n\nMikä avaruusviikko on?\nAvaruusviikko on kansainvälinen tapahtuma joka juhlistaa tieteen ja teknologian tuomaa hyötyä ihmiskunnalle. Yhdistyneiden kansakuntien (YK) yleiskokous julisti vuonna 1999\, että kansainvälistä avaruusviikkoa vietetään joka vuosi 4.-10. lokakuuta. Nämä päivät valittiin\, koska \n\nLokakuun 4. päivä 1957 laukaistiin ensimmäinen satelliitti\, Sputnik 1 ja\nLokakuun 10. päivä 1967 allekirjoitettiin kansainvälinen YK:n sopimus avaruuden rauhanomaisesta käytöstä.
URL:https://www.ursa.fi/blogi/sirius/event/kansainvalinen-avaruusviikko-rihlapera/
LOCATION:Rihlaperän tähtitorni
CATEGORIES:Tapahtumat
ATTACH;FMTTYPE=image/jpeg:https://www.ursa.fi/blogi/sirius/wp-content/uploads/sites/20/2019/08/20160930_212827_8062.jpg
END:VEVENT
BEGIN:VEVENT
DTSTART;TZID=Europe/Helsinki:20241010T183000
DTEND;TZID=Europe/Helsinki:20241010T210000
DTSTAMP:20260421T155727
CREATED:20240630T071220Z
LAST-MODIFIED:20241006T054925Z
UID:1918-1728585000-1728594000@www.ursa.fi
SUMMARY:Lokakuun tähtiharrastusilta
DESCRIPTION:2024 Auringonpimennys USA:ssa / Harri Kiiskinen \nAlkuun katsaus ajankohtaisiin tähtitaivaan tapahtumiin ja keskustelua Nyrölän observatorion kehittämisestä. \nSiriuksen tähtiharrastusillat ovat kaikille avoimia maksuttomia tilaisuuksia. Tervetuloa!
URL:https://www.ursa.fi/blogi/sirius/event/lokakuun-tahtiharrastusilta-6/
LOCATION:Schildtin lukion auditorio\, Viitaniementie 1B\, Jyväskylä\, 40720\, Finland
CATEGORIES:Tähtiharrastusilta
ATTACH;FMTTYPE=image/jpeg:https://www.ursa.fi/blogi/sirius/wp-content/uploads/sites/20/2024/06/20240408_140206_3144.jpg
END:VEVENT
END:VCALENDAR