BEGIN:VCALENDAR
VERSION:2.0
PRODID:-//Jyväskylän Sirius ry - ECPv6.15.17//NONSGML v1.0//EN
CALSCALE:GREGORIAN
METHOD:PUBLISH
X-ORIGINAL-URL:https://www.ursa.fi/blogi/sirius
X-WR-CALDESC:Tapahtumat Jyväskylän Sirius ry
REFRESH-INTERVAL;VALUE=DURATION:PT1H
X-Robots-Tag:noindex
X-PUBLISHED-TTL:PT1H
BEGIN:VTIMEZONE
TZID:Europe/Helsinki
BEGIN:DAYLIGHT
TZOFFSETFROM:+0200
TZOFFSETTO:+0300
TZNAME:EEST
DTSTART:20220327T010000
END:DAYLIGHT
BEGIN:STANDARD
TZOFFSETFROM:+0300
TZOFFSETTO:+0200
TZNAME:EET
DTSTART:20221030T010000
END:STANDARD
BEGIN:DAYLIGHT
TZOFFSETFROM:+0200
TZOFFSETTO:+0300
TZNAME:EEST
DTSTART:20230326T010000
END:DAYLIGHT
BEGIN:STANDARD
TZOFFSETFROM:+0300
TZOFFSETTO:+0200
TZNAME:EET
DTSTART:20231029T010000
END:STANDARD
BEGIN:DAYLIGHT
TZOFFSETFROM:+0200
TZOFFSETTO:+0300
TZNAME:EEST
DTSTART:20240331T010000
END:DAYLIGHT
BEGIN:STANDARD
TZOFFSETFROM:+0300
TZOFFSETTO:+0200
TZNAME:EET
DTSTART:20241027T010000
END:STANDARD
END:VTIMEZONE
BEGIN:VEVENT
DTSTART;TZID=Europe/Helsinki:20230205T190000
DTEND;TZID=Europe/Helsinki:20230205T200000
DTSTAMP:20260422T202209
CREATED:20230107T065943Z
LAST-MODIFIED:20230107T065943Z
UID:1548-1675623600-1675627200@www.ursa.fi
SUMMARY:Rihlaperän tähtitorni avoinna klo 19-20 sään ollessa selkeä.
DESCRIPTION:
URL:https://www.ursa.fi/blogi/sirius/event/rihlaperan-tahtitorni-avoinna-klo-19-20-saan-ollessa-selkea-9/
END:VEVENT
BEGIN:VEVENT
DTSTART;TZID=Europe/Helsinki:20230209T183000
DTEND;TZID=Europe/Helsinki:20230209T210000
DTSTAMP:20260422T202209
CREATED:20230107T070316Z
LAST-MODIFIED:20230204T141926Z
UID:1574-1675967400-1675976400@www.ursa.fi
SUMMARY:Helmikuun tähtiharrastusilta
DESCRIPTION:Helmikuun tähtiharrastusillassa Veikko Mäkelä luennoi komeetoista. Tilaisuuden alussa katsaus ajankohtaisiin taivaan tapahtumiin sekä Siriuksen kuulumisia. Siriuksen tähtiharrastusillat ovat kaikille avoimia maksuttomia tilaisuuksia. Tilaisuutta voi seurata etänä Google-meetin avulla. Tervetuloa.
URL:https://www.ursa.fi/blogi/sirius/event/helmikuun-tahtiharrastusilta-2/
LOCATION:Schildtin lukion auditorio\, Viitaniementie 1B\, Jyväskylä\, 40720\, Finland
ATTACH;FMTTYPE=image/jpeg:https://www.ursa.fi/blogi/sirius/wp-content/uploads/sites/20/2017/11/Hale-Bopp.jpeg
END:VEVENT
BEGIN:VEVENT
DTSTART;TZID=Europe/Helsinki:20230212T190000
DTEND;TZID=Europe/Helsinki:20230212T200000
DTSTAMP:20260422T202209
CREATED:20230107T070008Z
LAST-MODIFIED:20230107T070008Z
UID:1551-1676228400-1676232000@www.ursa.fi
SUMMARY:Rihlaperän tähtitorni avoinna klo 19-20 sään ollessa selkeä.
DESCRIPTION:
URL:https://www.ursa.fi/blogi/sirius/event/rihlaperan-tahtitorni-avoinna-klo-19-20-saan-ollessa-selkea-10/
END:VEVENT
BEGIN:VEVENT
DTSTART;TZID=Europe/Helsinki:20230219T190000
DTEND;TZID=Europe/Helsinki:20230219T200000
DTSTAMP:20260422T202209
CREATED:20230107T070037Z
LAST-MODIFIED:20230216T182302Z
UID:1554-1676833200-1676836800@www.ursa.fi
SUMMARY:Rihlaperän tähtitorni avoinna klo 19-20
DESCRIPTION:
URL:https://www.ursa.fi/blogi/sirius/event/rihlaperan-tahtitorni-avoinna-klo-19-20-saan-ollessa-selkea-11/
END:VEVENT
BEGIN:VEVENT
DTSTART;TZID=Europe/Helsinki:20230226T190000
DTEND;TZID=Europe/Helsinki:20230226T200000
DTSTAMP:20260422T202209
CREATED:20230107T070058Z
LAST-MODIFIED:20230216T182339Z
UID:1557-1677438000-1677441600@www.ursa.fi
SUMMARY:Rihlaperän tähtitorni avoinna klo 19-20
DESCRIPTION:
URL:https://www.ursa.fi/blogi/sirius/event/rihlaperan-tahtitorni-avoinna-klo-19-20-saan-ollessa-selkea-12/
END:VEVENT
END:VCALENDAR