BEGIN:VCALENDAR
VERSION:2.0
PRODID:-//Jyväskylän Sirius ry - ECPv6.15.17//NONSGML v1.0//EN
CALSCALE:GREGORIAN
METHOD:PUBLISH
X-ORIGINAL-URL:https://www.ursa.fi/blogi/sirius
X-WR-CALDESC:Tapahtumat Jyväskylän Sirius ry
REFRESH-INTERVAL;VALUE=DURATION:PT1H
X-Robots-Tag:noindex
X-PUBLISHED-TTL:PT1H
BEGIN:VTIMEZONE
TZID:Europe/Helsinki
BEGIN:DAYLIGHT
TZOFFSETFROM:+0200
TZOFFSETTO:+0300
TZNAME:EEST
DTSTART:20210328T010000
END:DAYLIGHT
BEGIN:STANDARD
TZOFFSETFROM:+0300
TZOFFSETTO:+0200
TZNAME:EET
DTSTART:20211031T010000
END:STANDARD
BEGIN:DAYLIGHT
TZOFFSETFROM:+0200
TZOFFSETTO:+0300
TZNAME:EEST
DTSTART:20220327T010000
END:DAYLIGHT
BEGIN:STANDARD
TZOFFSETFROM:+0300
TZOFFSETTO:+0200
TZNAME:EET
DTSTART:20221030T010000
END:STANDARD
BEGIN:DAYLIGHT
TZOFFSETFROM:+0200
TZOFFSETTO:+0300
TZNAME:EEST
DTSTART:20230326T010000
END:DAYLIGHT
BEGIN:STANDARD
TZOFFSETFROM:+0300
TZOFFSETTO:+0200
TZNAME:EET
DTSTART:20231029T010000
END:STANDARD
END:VTIMEZONE
BEGIN:VEVENT
DTSTART;TZID=Europe/Helsinki:20220414T183000
DTEND;TZID=Europe/Helsinki:20220414T210000
DTSTAMP:20260423T105531
CREATED:20220402T051545Z
LAST-MODIFIED:20220402T051545Z
UID:1356-1649961000-1649970000@www.ursa.fi
SUMMARY:Huhtikuun tähtiharrastusilta
DESCRIPTION:Huhtikuun tähtiharrastusillan aiheena jäsenistön havainnot kesän 2021 – talven 2022 välisenä aikana. Mitä enemmän saadaan esittäjiä\, sen parempi eli kaikki vaan rohkeasti mukaan! Ennen havaintoja katsaus ajankohtaisiin tähtitaivaan tapahtumiin. Siriuksen tähtiharrastusillat ovat kaikille avoimia tilaisuuksia eikä jäsenyys ole edellytys sille\, että voit kertoilla omista havainnoistasi huhtikuun tähtiharrastusillassa.
URL:https://www.ursa.fi/blogi/sirius/event/huhtikuun-tahtiharrastusilta-3/
CATEGORIES:Tähtiharrastusilta
ATTACH;FMTTYPE=image/jpeg:https://www.ursa.fi/blogi/sirius/wp-content/uploads/sites/20/2022/04/Capture.jpg
END:VEVENT
END:VCALENDAR