BEGIN:VCALENDAR
VERSION:2.0
PRODID:-//Jyväskylän Sirius ry - ECPv6.15.17//NONSGML v1.0//EN
CALSCALE:GREGORIAN
METHOD:PUBLISH
X-WR-CALNAME:Jyväskylän Sirius ry
X-ORIGINAL-URL:https://www.ursa.fi/blogi/sirius
X-WR-CALDESC:Tapahtumat Jyväskylän Sirius ry
REFRESH-INTERVAL;VALUE=DURATION:PT1H
X-Robots-Tag:noindex
X-PUBLISHED-TTL:PT1H
BEGIN:VTIMEZONE
TZID:Europe/Helsinki
BEGIN:DAYLIGHT
TZOFFSETFROM:+0200
TZOFFSETTO:+0300
TZNAME:EEST
DTSTART:20210328T010000
END:DAYLIGHT
BEGIN:STANDARD
TZOFFSETFROM:+0300
TZOFFSETTO:+0200
TZNAME:EET
DTSTART:20211031T010000
END:STANDARD
BEGIN:DAYLIGHT
TZOFFSETFROM:+0200
TZOFFSETTO:+0300
TZNAME:EEST
DTSTART:20220327T010000
END:DAYLIGHT
BEGIN:STANDARD
TZOFFSETFROM:+0300
TZOFFSETTO:+0200
TZNAME:EET
DTSTART:20221030T010000
END:STANDARD
BEGIN:DAYLIGHT
TZOFFSETFROM:+0200
TZOFFSETTO:+0300
TZNAME:EEST
DTSTART:20230326T010000
END:DAYLIGHT
BEGIN:STANDARD
TZOFFSETFROM:+0300
TZOFFSETTO:+0200
TZNAME:EET
DTSTART:20231029T010000
END:STANDARD
END:VTIMEZONE
BEGIN:VEVENT
DTSTART;TZID=Europe/Helsinki:20220310T183000
DTEND;TZID=Europe/Helsinki:20220310T210000
DTSTAMP:20260423T124035
CREATED:20220213T105400Z
LAST-MODIFIED:20220213T110147Z
UID:1337-1646937000-1646946000@www.ursa.fi
SUMMARY:Sääntömääräinen kevätkokous
DESCRIPTION:Maaliskuussa pidetään yhdistyksen sääntömääräinen kevätkokous\, jossa esitellään vuoden 2021 toimintakertomus\, tilinpäätös sekä toiminnantarkastajien lausunto. Näiden jälkeen päätetään tilinpäätöksen vahvistamisesta sekä tili- ja vastuuvapauden myöntämisestä hallitukselle ja mahdollisille muille tilivelvollisille. \nKokouspaikka on Schildtin lukion audutorio (B-rakennus)\, Viitaniementie 1. \nKevätkokoukseen voi osallistua myös etänä\, mutta se vaatii ennakkoilmoittautumisen äänioikeuden vahvistamiseksi. Ilmoittautumiset voi lähettää osoitteeseen sirius@jklsirius.fi viimeistään 9.3. Kokouslinkki lähetetään vain ilmoittautuneille.
URL:https://www.ursa.fi/blogi/sirius/event/saantomaarainen-kevatkokous/
LOCATION:Schildtin lukion auditorio\, Viitaniementie 1B\, Jyväskylä\, 40720\, Finland
ATTACH;FMTTYPE=image/png:https://www.ursa.fi/blogi/sirius/wp-content/uploads/sites/20/2017/11/siriuslogory_blue-1.png
END:VEVENT
END:VCALENDAR