BEGIN:VCALENDAR
VERSION:2.0
PRODID:-//Jyväskylän Sirius ry - ECPv6.15.17//NONSGML v1.0//EN
CALSCALE:GREGORIAN
METHOD:PUBLISH
X-ORIGINAL-URL:https://www.ursa.fi/blogi/sirius
X-WR-CALDESC:Tapahtumat Jyväskylän Sirius ry
REFRESH-INTERVAL;VALUE=DURATION:PT1H
X-Robots-Tag:noindex
X-PUBLISHED-TTL:PT1H
BEGIN:VTIMEZONE
TZID:Europe/Helsinki
BEGIN:DAYLIGHT
TZOFFSETFROM:+0200
TZOFFSETTO:+0300
TZNAME:EEST
DTSTART:20200329T010000
END:DAYLIGHT
BEGIN:STANDARD
TZOFFSETFROM:+0300
TZOFFSETTO:+0200
TZNAME:EET
DTSTART:20201025T010000
END:STANDARD
BEGIN:DAYLIGHT
TZOFFSETFROM:+0200
TZOFFSETTO:+0300
TZNAME:EEST
DTSTART:20210328T010000
END:DAYLIGHT
BEGIN:STANDARD
TZOFFSETFROM:+0300
TZOFFSETTO:+0200
TZNAME:EET
DTSTART:20211031T010000
END:STANDARD
BEGIN:DAYLIGHT
TZOFFSETFROM:+0200
TZOFFSETTO:+0300
TZNAME:EEST
DTSTART:20220327T010000
END:DAYLIGHT
BEGIN:STANDARD
TZOFFSETFROM:+0300
TZOFFSETTO:+0200
TZNAME:EET
DTSTART:20221030T010000
END:STANDARD
END:VTIMEZONE
BEGIN:VEVENT
DTSTART;TZID=Europe/Helsinki:20211008T180000
DTEND;TZID=Europe/Helsinki:20211008T210000
DTSTAMP:20260423T205110
CREATED:20211002T100139Z
LAST-MODIFIED:20211002T100139Z
UID:1186-1633716000-1633726800@www.ursa.fi
SUMMARY:Avaruusviikko\, avoimet ovet Nyrölän observatoriossa
DESCRIPTION:Avoimet ovet perjantaina 8.10 klo 18-21 Nyrölän observatoriossa. Mahdollisuus makkaranpaistoon (omat makkarat mukaan). Sään salliessa tähtitaivaan kohteiden havainnointia kaukoputkilla. Huomioithan voimassa olevat koronarajoitukset.
URL:https://www.ursa.fi/blogi/sirius/event/avaruusviikko-avoimet-ovet-nyrolan-observatoriossa/
LOCATION:Nyrölän observatorio\, Vertaalantie 447\, Jyväskylä\, 40270
CATEGORIES:Tapahtumat
END:VEVENT
BEGIN:VEVENT
DTSTART;TZID=Europe/Helsinki:20211009T180000
DTEND;TZID=Europe/Helsinki:20211009T210000
DTSTAMP:20260423T205110
CREATED:20211002T100333Z
LAST-MODIFIED:20211002T100333Z
UID:1189-1633802400-1633813200@www.ursa.fi
SUMMARY:Avaruusviikko\, Avoimet ovet Hankasalmen observatoriossa
DESCRIPTION:Avoimet ovet lauantaina 9.10 klo 18-21 Hankasalmen observatoriossa. Mahdollisuus makkaranpaistoon (omat makkarat mukaan). Sään salliessa tähtitaivaan kohteiden havainnointia kaukoputkilla. Huomioithan voimassa olevat koronarajoitukset.
URL:https://www.ursa.fi/blogi/sirius/event/avaruusviikko-avoimet-ovet-hankasalmen-observatoriossa/
LOCATION:Murtoisten observatorio\, Murtoistentie 116\, Hankasalmi\, Suomi
CATEGORIES:Tapahtumat
END:VEVENT
BEGIN:VEVENT
DTSTART;TZID=Europe/Helsinki:20211010T080000
DTEND;TZID=Europe/Helsinki:20211010T170000
DTSTAMP:20260423T205110
CREATED:20211002T100440Z
LAST-MODIFIED:20211002T100440Z
UID:1192-1633852800-1633885200@www.ursa.fi
SUMMARY:Avaruusviikko\, avoimet ovet Rihlaperän tähtitornilla
DESCRIPTION:Avoimet ovet sunnuntaina 10.10 klo 18-21 Rihlaperän tähtitornilla. Mahdollisuus makkaranpaistoon (omat makkarat mukaan). Sään salliessa tähtitaivaan kohteiden havainnointia kaukoputkilla. Huomioithan voimassa olevat koronarajoitukset.
URL:https://www.ursa.fi/blogi/sirius/event/avaruusviikko-avoimet-ovet-rihlaperan-tahtitornilla/
LOCATION:Rihlaperän tähtitorni
END:VEVENT
BEGIN:VEVENT
DTSTART;TZID=Europe/Helsinki:20211014T183000
DTEND;TZID=Europe/Helsinki:20211014T213000
DTSTAMP:20260423T205110
CREATED:20211002T100604Z
LAST-MODIFIED:20211010T081933Z
UID:1195-1634236200-1634247000@www.ursa.fi
SUMMARY:Lokakuun tähtiharrastusilta
DESCRIPTION:Lokakuun tähtiharrastusillan aiheena Hankasalmen observatorion etäkäyttö. Tilaisuuden aluksi katsaus ajankohtaisiin tähtitaivaan tapahtumiin ja Siriuksen kuulumisiin.
URL:https://www.ursa.fi/blogi/sirius/event/lokakuun-tahtiharrastusilta-3/
CATEGORIES:Tähtiharrastusilta
ATTACH;FMTTYPE=image/jpeg:https://www.ursa.fi/blogi/sirius/wp-content/uploads/sites/20/2021/10/Untitled-2.jpeg
END:VEVENT
END:VCALENDAR