BEGIN:VCALENDAR
VERSION:2.0
PRODID:-//Jyväskylän Sirius ry - ECPv6.15.17//NONSGML v1.0//EN
CALSCALE:GREGORIAN
METHOD:PUBLISH
X-WR-CALNAME:Jyväskylän Sirius ry
X-ORIGINAL-URL:https://www.ursa.fi/blogi/sirius
X-WR-CALDESC:Tapahtumat Jyväskylän Sirius ry
REFRESH-INTERVAL;VALUE=DURATION:PT1H
X-Robots-Tag:noindex
X-PUBLISHED-TTL:PT1H
BEGIN:VTIMEZONE
TZID:Europe/Helsinki
BEGIN:DAYLIGHT
TZOFFSETFROM:+0200
TZOFFSETTO:+0300
TZNAME:EEST
DTSTART:20200329T010000
END:DAYLIGHT
BEGIN:STANDARD
TZOFFSETFROM:+0300
TZOFFSETTO:+0200
TZNAME:EET
DTSTART:20201025T010000
END:STANDARD
BEGIN:DAYLIGHT
TZOFFSETFROM:+0200
TZOFFSETTO:+0300
TZNAME:EEST
DTSTART:20210328T010000
END:DAYLIGHT
BEGIN:STANDARD
TZOFFSETFROM:+0300
TZOFFSETTO:+0200
TZNAME:EET
DTSTART:20211031T010000
END:STANDARD
BEGIN:DAYLIGHT
TZOFFSETFROM:+0200
TZOFFSETTO:+0300
TZNAME:EEST
DTSTART:20220327T010000
END:DAYLIGHT
BEGIN:STANDARD
TZOFFSETFROM:+0300
TZOFFSETTO:+0200
TZNAME:EET
DTSTART:20221030T010000
END:STANDARD
END:VTIMEZONE
BEGIN:VEVENT
DTSTART;TZID=Europe/Helsinki:20210311T183000
DTEND;TZID=Europe/Helsinki:20210311T210000
DTSTAMP:20260424T071227
CREATED:20210308T063631Z
LAST-MODIFIED:20210308T063631Z
UID:1132-1615487400-1615496400@www.ursa.fi
SUMMARY:Maaliskuun tähtiharrastusilta
DESCRIPTION:Maaliskuun tähtiharrastusillassa professori Boris Gänsicke Warwickin yliopistosta kertoo meille valkoisista kääpiötähdistä. Tule kuulemaan mm. mitä tapahtuu planeetoille\, kun keskustähti luhistuu valkoiseksi kääpiöksi?\nEnnen luentoa yhdistyksen sääntömääräinen kevätkokous\, jossa esitellään vuoden 2020 toimintakertomus\, tilinpäätös sekä toiminnantarkastajien lausunto. Prof. Gässicken luento alkaa klo noin 19:00.\nJyväskylän Sirius ry:n tähtiharrastusillat ovat kaikille avoimia maksuttomia tilaisuuksia. Tervetuloa mukaan.\n———————-\nThe end of the worlds / Prof. Boris Gänsicke\, University of Warwick (UK)\nMany of the known planets – in the solar system Mars and beyond – will survive the post main-sequence evolution of their host stars into white dwarfs. Later interactions scatter asteroids\, moons\, and possibly entire planets deep into the gravitational potential of the white dwarf\, where they are disrupted by tidal forces. Observational evidence for such evolved planetary systems is ubiquitous in the form of photospheric contamination by planetary material\, circumstellar discs\, and transits. The study of white dwarfs accreting planetary debris provides insight into the bulk compositions of exo-planets conditions\, the efficiency of planet formation around A/F type stars\, and the architectures of outer planetary systems inaccessible to direct detections.
URL:https://www.ursa.fi/blogi/sirius/event/maaliskuun-tahtiharrastusilta-3/
CATEGORIES:Tähtiharrastusilta
ATTACH;FMTTYPE=image/jpeg:https://www.ursa.fi/blogi/sirius/wp-content/uploads/sites/20/2021/03/151649951_3863119943726102_1745031711882654525_o.jpg
END:VEVENT
END:VCALENDAR