BEGIN:VCALENDAR
VERSION:2.0
PRODID:-//Jyväskylän Sirius ry - ECPv6.15.17//NONSGML v1.0//EN
CALSCALE:GREGORIAN
METHOD:PUBLISH
X-WR-CALNAME:Jyväskylän Sirius ry
X-ORIGINAL-URL:https://www.ursa.fi/blogi/sirius
X-WR-CALDESC:Tapahtumat Jyväskylän Sirius ry
REFRESH-INTERVAL;VALUE=DURATION:PT1H
X-Robots-Tag:noindex
X-PUBLISHED-TTL:PT1H
BEGIN:VTIMEZONE
TZID:Europe/Helsinki
BEGIN:DAYLIGHT
TZOFFSETFROM:+0200
TZOFFSETTO:+0300
TZNAME:EEST
DTSTART:20190331T010000
END:DAYLIGHT
BEGIN:STANDARD
TZOFFSETFROM:+0300
TZOFFSETTO:+0200
TZNAME:EET
DTSTART:20191027T010000
END:STANDARD
BEGIN:DAYLIGHT
TZOFFSETFROM:+0200
TZOFFSETTO:+0300
TZNAME:EEST
DTSTART:20200329T010000
END:DAYLIGHT
BEGIN:STANDARD
TZOFFSETFROM:+0300
TZOFFSETTO:+0200
TZNAME:EET
DTSTART:20201025T010000
END:STANDARD
BEGIN:DAYLIGHT
TZOFFSETFROM:+0200
TZOFFSETTO:+0300
TZNAME:EEST
DTSTART:20210328T010000
END:DAYLIGHT
BEGIN:STANDARD
TZOFFSETFROM:+0300
TZOFFSETTO:+0200
TZNAME:EET
DTSTART:20211031T010000
END:STANDARD
END:VTIMEZONE
BEGIN:VEVENT
DTSTART;TZID=Europe/Helsinki:20200223T190000
DTEND;TZID=Europe/Helsinki:20200223T200000
DTSTAMP:20260424T220227
CREATED:20200130T182512Z
LAST-MODIFIED:20200130T182512Z
UID:1034-1582484400-1582488000@www.ursa.fi
SUMMARY:Tähtinäytäntö\, Rihlaperän tähtitorni
DESCRIPTION:Rihlaperän tähtitorni avoinna klo 19-20 sään ollessa selkeä.
URL:https://www.ursa.fi/blogi/sirius/event/tahtinaytanto-rihlaperan-tahtitorni-15/
CATEGORIES:Tähtinäytäntö
END:VEVENT
END:VCALENDAR