BEGIN:VCALENDAR
VERSION:2.0
PRODID:-//Kirkkonummen Komeetta ry - ECPv6.15.17//NONSGML v1.0//EN
CALSCALE:GREGORIAN
METHOD:PUBLISH
X-ORIGINAL-URL:https://www.ursa.fi/blogi/komeetta
X-WR-CALDESC:Tapahtumat Kirkkonummen Komeetta ry
REFRESH-INTERVAL;VALUE=DURATION:PT1H
X-Robots-Tag:noindex
X-PUBLISHED-TTL:PT1H
BEGIN:VTIMEZONE
TZID:Europe/Helsinki
BEGIN:DAYLIGHT
TZOFFSETFROM:+0200
TZOFFSETTO:+0300
TZNAME:EEST
DTSTART:20240331T010000
END:DAYLIGHT
BEGIN:STANDARD
TZOFFSETFROM:+0300
TZOFFSETTO:+0200
TZNAME:EET
DTSTART:20241027T010000
END:STANDARD
BEGIN:DAYLIGHT
TZOFFSETFROM:+0200
TZOFFSETTO:+0300
TZNAME:EEST
DTSTART:20250330T010000
END:DAYLIGHT
BEGIN:STANDARD
TZOFFSETFROM:+0300
TZOFFSETTO:+0200
TZNAME:EET
DTSTART:20251026T010000
END:STANDARD
BEGIN:DAYLIGHT
TZOFFSETFROM:+0200
TZOFFSETTO:+0300
TZNAME:EEST
DTSTART:20260329T010000
END:DAYLIGHT
BEGIN:STANDARD
TZOFFSETFROM:+0300
TZOFFSETTO:+0200
TZNAME:EET
DTSTART:20261025T010000
END:STANDARD
END:VTIMEZONE
BEGIN:VEVENT
DTSTART;TZID=Europe/Helsinki:20250415T180000
DTEND;TZID=Europe/Helsinki:20250415T200000
DTSTAMP:20260423T144114
CREATED:20241209T085053Z
LAST-MODIFIED:20250417T094328Z
UID:905-1744740000-1744747200@www.ursa.fi
SUMMARY:Esitelmä: Kuu paljain silmin\, Osa 2
DESCRIPTION:Kuva: Juho Luomala / Unsplash\n \n \nKirkkonummen Komeetan huhtikuun esitelmä on jatkoa syksyn Kuu-esitelmälle\, aiheena Kuu paljain silmin\, osa 2. Paikkana on totuttu pääkirjaston Mörne-sali tiistaina 15.4.klo 18 ja esiintyjät ovat syksystä tutut Paula Wirtanen ja Veikko Mäkelä.\n \nKuu-ukko on monelle tuttu Kuun pinnalla aivan paljain silmin nähtävä hahmo. Eri kulttuureissa ja eri aikakausina Kuun pinnalla on nähty monenlaisia muitakin hahmoja. Keskiajan germaanisessa kansanperinteessä Kuussa nähdään risuja kantava mies. Kuusta on hahmotettu myös eläinhahmoja. Esimerkiksi Kiinassa Kuun pinnalla hahmotetaan jänis\, josta liikkuukin monenlaisia legendoja. Yhden version mukaan kuunjumalatar Chang’e karkotettiin Kuuhun hänen nautittuaan kaksinkertaisen annoksen kuolemattomaksi tekevää elämän eliksiiriä. Kuussa oleva jänis on hänen lemmikkijäniksensä Yutu.\n \nKuu on ainoa taivaankappale\, josta voimme erottaa pinnanmuotoja ilman optisia apuvälineitä. Kuusta voi erottaa yllättävänkin paljon pelkkien paljaiden silmien avulla\, helpoiten erottuvat juuri tummat ja vaaleat alueet. Vaaleita alueita kutsutaan ylängöiksi ja tummia alueita meriksi. Todellisuudessa Kuun merissä ei ole vettä\, mutta ne ovat saaneet pitää nämä nimensä osana Kuun virallista nimistöä historiallisista syistä – ja hyvä niin\, ne ovat nimittäin varsin runollisia. Apollo-lentoja seuranneille ja niistä lukeneille saattaa hyvinkin olla jäänyt mieleen Rauhallisuuden meri. Muita meriä Kuun nimistössä löytyy mm. Sateiden meri ja Kirkkauden meri\, joita voi oppia tunnistamaan Kuun pinnalta paljain silmin varsin hyvin. Kraattereita Kuun pinnalta valitettavasti paljain silmin kuitenkaan ei voi erottaa\, kuin epäsuorasti heittelealueiden kirkastumina.\n \nErilaisten kirkastumien\, Kuun pienempien merien ja muiden vastaavien erottamisen perusteella Kuuta voikin käyttää myös erinomaisena näkötestinä. Yksityiskohtien erottamista varten on tehty erilaisia listoja\, joiden avulla voi tarkistaa kuinka pieniä yksityiskohtia Kuusta voi erottaa. Tunnetuimmat näistä ovat 1900-luvussa alussa yhdysvaltalaisen tähtitieteilijän William Pickeringin laatima kaksitoista kohdetta paljain silmin etsittäväksi sisältävä lista sekä niinikään yhdysvaltalaisen Stephen O’Mearan vuonna 2010 laatima lista\, jossa erilaisia Kuun yksityiskohtia on merkitty varsin helpoista todella vaikeasti erottuviin kuukohteisiin. Myös esitelmöitsijät ovat Ursan harrastusryhmän piirissä koonneet myös oman ja hieman laajemman Kuu paljain silmin -karttansa.\n \nKuu\, varsinkin täysikuu\, on pimeällä taivaalla hyvin kirkas. Kuun yksityiskohtia voikin parhaiten ihastella hämärän aikaan\, kuten kesäöinä. Kevätillat taas tarjoavat mainiosti kasvavan Kuun iltataivaalla seurattavaksi. Paljon puhuttu superkuu saattaa myös auttaa havaitsemisessa\, vaikka Kuu ei silloin huomattavasti suurempi olekaan ja eroa normaaliin tai normaalia pienempään Kuuhun ei voikaan huomata. Pienten yksityiskohtien etsimisessä superkuusta saattaa olla kuitenkin hyötyä.\n \nEsitelmöitsijöistä Veikko Mäkelä on tähtitaivaan tutkimisesta paljain silmin kiinnostunut tähtiharrastuksen moniottelija\, Paula Wirtasen kiinnostuksen kohteina ollessa Kuu ja Planeetat. Molemmat toimivat vastuuaktiiveina Ursan Kuu ja planeetat -harrastusryhmässä ja ovat pitkäaikaisia tähtitieteen harrastajia. \n Esitelmän diat:  \nLisätietoa Ursan verkkolehti Zeniitin sivuilta. Verkkolehden artikkelisarja on kolmiosainen ja esitelmäsarja kaksiosainen. Tämän esitelmän asiat käydään läpi seuraavissa artikkeleissa: \nKuu paljain silmin\, osa 2 – Kuu vaiheesta toiseen  \nKuu paljain silmin\, osa 3 – hahmoja ja yksityiskohtia
URL:https://www.ursa.fi/blogi/komeetta/event/kuu-paljain-silmin-osa-2/
LOCATION:Fyyri-pääkirjaston Mörne-sali\, Kirkkotori 1\, Kirkkonummi\, 02400\, Finland
CATEGORIES:Esitelmä
ATTACH;FMTTYPE=image/jpeg:https://www.ursa.fi/blogi/komeetta/wp-content/uploads/sites/28/2025/04/juho-luomala-rYg5e29CTFA-unsplash_pienempi-scaled.jpg
END:VEVENT
END:VCALENDAR