BEGIN:VCALENDAR
VERSION:2.0
PRODID:-//Kirkkonummen Komeetta ry - ECPv6.15.17//NONSGML v1.0//EN
CALSCALE:GREGORIAN
METHOD:PUBLISH
X-WR-CALNAME:Kirkkonummen Komeetta ry
X-ORIGINAL-URL:https://www.ursa.fi/blogi/komeetta
X-WR-CALDESC:Tapahtumat Kirkkonummen Komeetta ry
REFRESH-INTERVAL;VALUE=DURATION:PT1H
X-Robots-Tag:noindex
X-PUBLISHED-TTL:PT1H
BEGIN:VTIMEZONE
TZID:Europe/Helsinki
BEGIN:DAYLIGHT
TZOFFSETFROM:+0200
TZOFFSETTO:+0300
TZNAME:EEST
DTSTART:20240331T010000
END:DAYLIGHT
BEGIN:STANDARD
TZOFFSETFROM:+0300
TZOFFSETTO:+0200
TZNAME:EET
DTSTART:20241027T010000
END:STANDARD
BEGIN:DAYLIGHT
TZOFFSETFROM:+0200
TZOFFSETTO:+0300
TZNAME:EEST
DTSTART:20250330T010000
END:DAYLIGHT
BEGIN:STANDARD
TZOFFSETFROM:+0300
TZOFFSETTO:+0200
TZNAME:EET
DTSTART:20251026T010000
END:STANDARD
BEGIN:DAYLIGHT
TZOFFSETFROM:+0200
TZOFFSETTO:+0300
TZNAME:EEST
DTSTART:20260329T010000
END:DAYLIGHT
BEGIN:STANDARD
TZOFFSETFROM:+0300
TZOFFSETTO:+0200
TZNAME:EET
DTSTART:20261025T010000
END:STANDARD
END:VTIMEZONE
BEGIN:VEVENT
DTSTART;TZID=Europe/Helsinki:20250202T190000
DTEND;TZID=Europe/Helsinki:20250202T210000
DTSTAMP:20260423T175506
CREATED:20240918T104223Z
LAST-MODIFIED:20240918T104223Z
UID:777-1738522800-1738530000@www.ursa.fi
SUMMARY:Tähtinäytäntö
DESCRIPTION:Tähtinäytäntö Komakallion tähtitornilla. Tutustumme yötaivaan kohteisiin yhdistyksen kaukoputkea apuna käyttäen. Vapaa pääsy. \nSäävaraus: täysin selkeä sää. \nAlkavasta näytöksestä tiedotetaan yhdistyksen sähköpostilistalla\, Facebook-sivulla sekä X-palvelussa vähintään tuntia ennen näytöksen alkua.
URL:https://www.ursa.fi/blogi/komeetta/event/tahtinaytanto-56/
LOCATION:Komakallion tähtitorni\, Bergvikintie 57\, Kirkkonummi\, 02400\, Finland
CATEGORIES:Tähtinäytös
END:VEVENT
BEGIN:VEVENT
DTSTART;TZID=Europe/Helsinki:20250203T190000
DTEND;TZID=Europe/Helsinki:20250203T210000
DTSTAMP:20260423T175506
CREATED:20240918T104223Z
LAST-MODIFIED:20240918T104223Z
UID:778-1738609200-1738616400@www.ursa.fi
SUMMARY:Tähtinäytäntö
DESCRIPTION:Tähtinäytäntö Komakallion tähtitornilla. Tutustumme yötaivaan kohteisiin yhdistyksen kaukoputkea apuna käyttäen. Vapaa pääsy. \nSäävaraus: täysin selkeä sää. \nAlkavasta näytöksestä tiedotetaan yhdistyksen sähköpostilistalla\, Facebook-sivulla sekä X-palvelussa vähintään tuntia ennen näytöksen alkua.
URL:https://www.ursa.fi/blogi/komeetta/event/tahtinaytanto-57/
LOCATION:Komakallion tähtitorni\, Bergvikintie 57\, Kirkkonummi\, 02400\, Finland
CATEGORIES:Tähtinäytös
END:VEVENT
BEGIN:VEVENT
DTSTART;TZID=Europe/Helsinki:20250209T190000
DTEND;TZID=Europe/Helsinki:20250209T210000
DTSTAMP:20260423T175506
CREATED:20240918T104223Z
LAST-MODIFIED:20240918T104223Z
UID:779-1739127600-1739134800@www.ursa.fi
SUMMARY:Tähtinäytäntö
DESCRIPTION:Tähtinäytäntö Komakallion tähtitornilla. Tutustumme yötaivaan kohteisiin yhdistyksen kaukoputkea apuna käyttäen. Vapaa pääsy. \nSäävaraus: täysin selkeä sää. \nAlkavasta näytöksestä tiedotetaan yhdistyksen sähköpostilistalla\, Facebook-sivulla sekä X-palvelussa vähintään tuntia ennen näytöksen alkua.
URL:https://www.ursa.fi/blogi/komeetta/event/tahtinaytanto-58/
LOCATION:Komakallion tähtitorni\, Bergvikintie 57\, Kirkkonummi\, 02400\, Finland
CATEGORIES:Tähtinäytös
END:VEVENT
BEGIN:VEVENT
DTSTART;TZID=Europe/Helsinki:20250210T190000
DTEND;TZID=Europe/Helsinki:20250210T210000
DTSTAMP:20260423T175506
CREATED:20240918T104223Z
LAST-MODIFIED:20240918T104223Z
UID:780-1739214000-1739221200@www.ursa.fi
SUMMARY:Tähtinäytäntö
DESCRIPTION:Tähtinäytäntö Komakallion tähtitornilla. Tutustumme yötaivaan kohteisiin yhdistyksen kaukoputkea apuna käyttäen. Vapaa pääsy. \nSäävaraus: täysin selkeä sää. \nAlkavasta näytöksestä tiedotetaan yhdistyksen sähköpostilistalla\, Facebook-sivulla sekä X-palvelussa vähintään tuntia ennen näytöksen alkua.
URL:https://www.ursa.fi/blogi/komeetta/event/tahtinaytanto-59/
LOCATION:Komakallion tähtitorni\, Bergvikintie 57\, Kirkkonummi\, 02400\, Finland
CATEGORIES:Tähtinäytös
END:VEVENT
BEGIN:VEVENT
DTSTART;TZID=Europe/Helsinki:20250211T180000
DTEND;TZID=Europe/Helsinki:20250211T200000
DTSTAMP:20260423T175506
CREATED:20241209T084014Z
LAST-MODIFIED:20250515T065220Z
UID:896-1739296800-1739304000@www.ursa.fi
SUMMARY:Esitelmä:  Ptolemaios ja antiikin tähtitiede
DESCRIPTION:Keskiaikaisen taiteilijan näkemys päähenkilöstä\, Wikipediasta. \n  \nEsitelmän diat: \n\nAleksandriassa 100-luvulla elänyt Klaudios Ptolemaios oli viimeinen antiikin kuuluisista oppineista. Vaikka Ptolemaioksen elämästä tiedetään hyvin vähän\, on merkittävä osa hänen teoksistaan säilynyt nykypäivään asti. Tähtitieteen suurteos Almagest tuli keskiajan Eurooppaan arabian kautta\, ja se säilytti asemansa tähtitieteen auktoriteettina 1500 vuoden ajan. \n\nPtolemaios ei niinkään luonut uutta tutkimusta\, vaan hänen suurin ansionsa oli koota kaikki sen aikainen tieto ja tehdä siitä systemaattinen esitys. Mutta millainen oli maailmankuva\, jonka Ptolemaios Almagestiinsa sai? Se perustui satojen vuosien aikana kerättyyn tietoon\, havaintoihin ja oppineiden kirjoituksiin. Monet näistä olivat yllättävän nykyaikaisia\, kuten käsitys Maan pyörimisestä ja kierrosta Auringon ympäri\, vaikka näitä Ptolemaios ei kirjaansa ottanutkaan. \n\nPtolemaioksen maailmanmallit\, planeettojen liikkeiden selitykset ja käsitys Maan koosta ja muodosta ohjasivat käsitystä ympäröivästä maailmasta aina uuden ajan alkuun saakka. Vasta Kopernikuksen\, Keplerin ja muiden tuon ajan tiedemiesten tutkimukset vähitellen syrjäyttivät Ptolemaioksen ja Aristoteleen maailmankäsitykset\, vaikka katolinen kirkko voimakkaasti vastustikin kehitystä. Yllättävää kyllä\, Ptolemaioksen vaikutus ulottuu nykypäivään saakka\, kuten jokainen tähtikarttoja ja tavallisia karttoja katsonut on huomannut. \n\nEsitelmässä kerrotaan antiikin ajan tähtitieteen saavutuksista\, miten ne siirtyivät Ptolemaioksen suurteokseen Almagest ja millä tavalla Almagest vaikutti maailmankuvaamme keskiajasta nykypäiviin saakka. \n\nPtolemaioksesta ja Ptolemaioksen perinnöstä kertoo emeritusprofessori Markku Poutanen. \nEpisyklimalli
URL:https://www.ursa.fi/blogi/komeetta/event/esitelma-ptolemaios/
LOCATION:Fyyri-pääkirjaston Mörne-sali\, Kirkkotori 1\, Kirkkonummi\, 02400\, Finland
CATEGORIES:Esitelmä
ATTACH;FMTTYPE=image/png:https://www.ursa.fi/blogi/komeetta/wp-content/uploads/sites/28/2024/12/Ptolemaion-1.png
END:VEVENT
BEGIN:VEVENT
DTSTART;TZID=Europe/Helsinki:20250216T190000
DTEND;TZID=Europe/Helsinki:20250216T210000
DTSTAMP:20260423T175506
CREATED:20240918T104303Z
LAST-MODIFIED:20240918T104303Z
UID:781-1739732400-1739739600@www.ursa.fi
SUMMARY:Tähtinäytäntö
DESCRIPTION:Tähtinäytäntö Komakallion tähtitornilla. Tutustumme yötaivaan kohteisiin yhdistyksen kaukoputkea apuna käyttäen. Vapaa pääsy. \nSäävaraus: täysin selkeä sää. \nAlkavasta näytöksestä tiedotetaan yhdistyksen sähköpostilistalla\, Facebook-sivulla sekä X-palvelussa vähintään tuntia ennen näytöksen alkua.
URL:https://www.ursa.fi/blogi/komeetta/event/tahtinaytanto-60/
LOCATION:Komakallion tähtitorni\, Bergvikintie 57\, Kirkkonummi\, 02400\, Finland
CATEGORIES:Tähtinäytös
END:VEVENT
BEGIN:VEVENT
DTSTART;TZID=Europe/Helsinki:20250217T190000
DTEND;TZID=Europe/Helsinki:20250217T210000
DTSTAMP:20260423T175506
CREATED:20240918T104303Z
LAST-MODIFIED:20250217T142023Z
UID:782-1739818800-1739826000@www.ursa.fi
SUMMARY:Peruttu: Tähtinäytäntö
DESCRIPTION:Näytäntö peruttu sisämaasta lähestyvän pilvilautan takia. \nTähtinäytäntö Komakallion tähtitornilla. Tutustumme yötaivaan kohteisiin yhdistyksen kaukoputkea apuna käyttäen. Vapaa pääsy. \nSäävaraus: täysin selkeä sää. \nAlkavasta näytöksestä tiedotetaan yhdistyksen sähköpostilistalla\, Facebook-sivulla sekä X-palvelussa vähintään tuntia ennen näytöksen alkua.
URL:https://www.ursa.fi/blogi/komeetta/event/tahtinaytanto-61/
LOCATION:Komakallion tähtitorni\, Bergvikintie 57\, Kirkkonummi\, 02400\, Finland
CATEGORIES:Tähtinäytös
END:VEVENT
BEGIN:VEVENT
DTSTART;TZID=Europe/Helsinki:20250223T190000
DTEND;TZID=Europe/Helsinki:20250223T210000
DTSTAMP:20260423T175506
CREATED:20240918T104303Z
LAST-MODIFIED:20240918T104303Z
UID:783-1740337200-1740344400@www.ursa.fi
SUMMARY:Tähtinäytäntö
DESCRIPTION:Tähtinäytäntö Komakallion tähtitornilla. Tutustumme yötaivaan kohteisiin yhdistyksen kaukoputkea apuna käyttäen. Vapaa pääsy. \nSäävaraus: täysin selkeä sää. \nAlkavasta näytöksestä tiedotetaan yhdistyksen sähköpostilistalla\, Facebook-sivulla sekä X-palvelussa vähintään tuntia ennen näytöksen alkua.
URL:https://www.ursa.fi/blogi/komeetta/event/tahtinaytanto-62/
LOCATION:Komakallion tähtitorni\, Bergvikintie 57\, Kirkkonummi\, 02400\, Finland
CATEGORIES:Tähtinäytös
END:VEVENT
BEGIN:VEVENT
DTSTART;TZID=Europe/Helsinki:20250224T190000
DTEND;TZID=Europe/Helsinki:20250224T210000
DTSTAMP:20260423T175506
CREATED:20240918T104304Z
LAST-MODIFIED:20240918T104304Z
UID:784-1740423600-1740430800@www.ursa.fi
SUMMARY:Tähtinäytäntö
DESCRIPTION:Tähtinäytäntö Komakallion tähtitornilla. Tutustumme yötaivaan kohteisiin yhdistyksen kaukoputkea apuna käyttäen. Vapaa pääsy. \nSäävaraus: täysin selkeä sää. \nAlkavasta näytöksestä tiedotetaan yhdistyksen sähköpostilistalla\, Facebook-sivulla sekä X-palvelussa vähintään tuntia ennen näytöksen alkua.
URL:https://www.ursa.fi/blogi/komeetta/event/tahtinaytanto-63/
LOCATION:Komakallion tähtitorni\, Bergvikintie 57\, Kirkkonummi\, 02400\, Finland
CATEGORIES:Tähtinäytös
END:VEVENT
END:VCALENDAR