BEGIN:VCALENDAR
VERSION:2.0
PRODID:-//Kirkkonummen Komeetta ry - ECPv6.15.17//NONSGML v1.0//EN
CALSCALE:GREGORIAN
METHOD:PUBLISH
X-ORIGINAL-URL:https://www.ursa.fi/blogi/komeetta
X-WR-CALDESC:Tapahtumat Kirkkonummen Komeetta ry
REFRESH-INTERVAL;VALUE=DURATION:PT1H
X-Robots-Tag:noindex
X-PUBLISHED-TTL:PT1H
BEGIN:VTIMEZONE
TZID:Europe/Helsinki
BEGIN:DAYLIGHT
TZOFFSETFROM:+0200
TZOFFSETTO:+0300
TZNAME:EEST
DTSTART:20240331T010000
END:DAYLIGHT
BEGIN:STANDARD
TZOFFSETFROM:+0300
TZOFFSETTO:+0200
TZNAME:EET
DTSTART:20241027T010000
END:STANDARD
BEGIN:DAYLIGHT
TZOFFSETFROM:+0200
TZOFFSETTO:+0300
TZNAME:EEST
DTSTART:20250330T010000
END:DAYLIGHT
BEGIN:STANDARD
TZOFFSETFROM:+0300
TZOFFSETTO:+0200
TZNAME:EET
DTSTART:20251026T010000
END:STANDARD
BEGIN:DAYLIGHT
TZOFFSETFROM:+0200
TZOFFSETTO:+0300
TZNAME:EEST
DTSTART:20260329T010000
END:DAYLIGHT
BEGIN:STANDARD
TZOFFSETFROM:+0300
TZOFFSETTO:+0200
TZNAME:EET
DTSTART:20261025T010000
END:STANDARD
END:VTIMEZONE
BEGIN:VEVENT
DTSTART;TZID=Europe/Helsinki:20251222T180000
DTEND;TZID=Europe/Helsinki:20251222T200000
DTSTAMP:20260423T042306
CREATED:20250817T184409Z
LAST-MODIFIED:20250817T184409Z
UID:1202-1766426400-1766433600@www.ursa.fi
SUMMARY:Komeetan kerhoilta
DESCRIPTION:Vapaamuotoinen kokoontuminen yhdistyksen kerhotilassa. Komeetan kirjasto on avoinna.
URL:https://www.ursa.fi/blogi/komeetta/event/komeetan-kerhoilta-67/
LOCATION:Kerhotila\, Volsintie 609 C\, Kirkkonummi\, 02400\, Finland
CATEGORIES:Komeetan kerho
END:VEVENT
BEGIN:VEVENT
DTSTART;TZID=Europe/Helsinki:20251222T190000
DTEND;TZID=Europe/Helsinki:20251222T210000
DTSTAMP:20260423T042306
CREATED:20250817T185326Z
LAST-MODIFIED:20250817T185326Z
UID:1237-1766430000-1766437200@www.ursa.fi
SUMMARY:Tähtinäytäntö
DESCRIPTION:Tähtinäytäntö Komakallion tähtitornilla. Tutustumme yötaivaan kohteisiin yhdistyksen kaukoputkea apuna käyttäen. Vapaa pääsy. \nSäävaraus: täysin selkeä sää. \nAlkavasta näytöksestä tiedotetaan yhdistyksen sähköpostilistalla\, Facebook-sivulla sekä X-palvelussa vähintään tuntia ennen näytöksen alkua.
URL:https://www.ursa.fi/blogi/komeetta/event/tahtinaytanto-97/
LOCATION:Komakallion tähtitorni\, Bergvikintie 57\, Kirkkonummi\, 02400\, Finland
CATEGORIES:Tähtinäytös
END:VEVENT
END:VCALENDAR