BEGIN:VCALENDAR
VERSION:2.0
PRODID:-//Kirkkonummen Komeetta ry - ECPv6.15.17//NONSGML v1.0//EN
CALSCALE:GREGORIAN
METHOD:PUBLISH
X-ORIGINAL-URL:https://www.ursa.fi/blogi/komeetta
X-WR-CALDESC:Tapahtumat Kirkkonummen Komeetta ry
REFRESH-INTERVAL;VALUE=DURATION:PT1H
X-Robots-Tag:noindex
X-PUBLISHED-TTL:PT1H
BEGIN:VTIMEZONE
TZID:Europe/Helsinki
BEGIN:DAYLIGHT
TZOFFSETFROM:+0200
TZOFFSETTO:+0300
TZNAME:EEST
DTSTART:20240331T010000
END:DAYLIGHT
BEGIN:STANDARD
TZOFFSETFROM:+0300
TZOFFSETTO:+0200
TZNAME:EET
DTSTART:20241027T010000
END:STANDARD
BEGIN:DAYLIGHT
TZOFFSETFROM:+0200
TZOFFSETTO:+0300
TZNAME:EEST
DTSTART:20250330T010000
END:DAYLIGHT
BEGIN:STANDARD
TZOFFSETFROM:+0300
TZOFFSETTO:+0200
TZNAME:EET
DTSTART:20251026T010000
END:STANDARD
BEGIN:DAYLIGHT
TZOFFSETFROM:+0200
TZOFFSETTO:+0300
TZNAME:EEST
DTSTART:20260329T010000
END:DAYLIGHT
BEGIN:STANDARD
TZOFFSETFROM:+0300
TZOFFSETTO:+0200
TZNAME:EET
DTSTART:20261025T010000
END:STANDARD
END:VTIMEZONE
BEGIN:VEVENT
DTSTART;TZID=Europe/Helsinki:20250526T180000
DTEND;TZID=Europe/Helsinki:20250526T210000
DTSTAMP:20260423T131156
CREATED:20250405T093936Z
LAST-MODIFIED:20250410T053810Z
UID:1037-1748282400-1748293200@www.ursa.fi
SUMMARY:Vierailu Metsähovin radiotutkimusasemalle
DESCRIPTION:Kupu ja kolme MCA-teleskooppia\, kuva: Derek McKay / Metsähovin radio-observatorio\n  \nKirkkonummen Komeetta ry järjestää vierailun Metsähovin radiotutkimusasemalle Kirkkonummen Kylmälään 26.5.2025 klo 18:00 alkaen. Metsähovi on perustettu 1974\, ja on Suomen ainoa tähtitieteellinen radio-observatorio. Retkellä pääset tutustumaan tutkimusaseman havaintolaitteisiin ja tiloihin. \nJos haluat osallistua retkelle\, täytä ilmoittautumislomake. \nPaikkoja on rajoitetusti. Lähtökohtaisesti kaikki ilmoittautuneet pääsevät mukaan\, mutta jos ilmoittautuneita tulee enemmän kuin paikkoja on vapaana\, yhdistyksen jäsenet ovat etusijalla. Lähetämme vahvistuksen osallistumisesta sähköpostilla vähintään viikkoa ennen retkeä. \nMetsähoviin ei ole järjestettyä kuljetusta. Voitte kuitenkin ilmoittaa lomakkeella jos ette pääse paikalle omalla autolla\, jolloin yhdistys voi tiedustella muilta osallistujilta kyytimahdollisuuksista. \nLukekaa tarkasti vierailuohjeet Metsähovin internet-sivuilta. \nKaikki radiolaitteet on saatava radiohiljaisiksi ennen alueelle saapumista\, mukaan lukien puhelin\, langattomat kuulokkeet\, auton datayhteys yms. Jos auton datayhteyttä ei saa sammuksiin\, auto tulee jättää alueen portin ulkopuolelle. \n \nLisätietoja Komeetan viime aikoina pidettyjen esitelmien esittelyistä:\nJoni tammi: Metsähovin radio-observatorio 50 vuotta\nMarkku Poutanen: Metsähovin geodeettinen tutkimusasema
URL:https://www.ursa.fi/blogi/komeetta/event/vierailu-metsahovin-radiotutkimusasemalle/
LOCATION:Metsähovin radiotutkimusasema\, Metsähovintie 114\, Kylmälä\, 02540\, Finland
ATTACH;FMTTYPE=image/jpeg:https://www.ursa.fi/blogi/komeetta/wp-content/uploads/sites/28/2025/04/Kupu-ja-MCA-1-3.jpg
END:VEVENT
END:VCALENDAR